BEGIN:VCALENDAR
VERSION:2.0
PRODID:-//SarahKiDs//rot-ical-download//EN
CALSCALE:GREGORIAN
METHOD:PUBLISH
BEGIN:VEVENT
UID:2ae2a80791fd911a9fe2e4065cf3efb8@sarahkids.at
DTSTAMP:20260421T112808Z
SUMMARY:GRÜNE Regen­bogen­­Fische
LOCATION:Hallenbad Gratkorn
DESCRIPTION:GRÜNE Regen­bogen­­Fische\nhttps://sarahkids.at/class/gruene-regenbogenfische/\nhttps://maps.app.goo.gl/jKBeyui5hm3T2nq37
URL:https://sarahkids.at/class/gruene-regenbogenfische/
DTSTART:20260720T140000Z
DTEND:20260720T145000Z
END:VEVENT
BEGIN:VEVENT
UID:ae1a4f6befcaffcffb7207a5330f210f@sarahkids.at
DTSTAMP:20260421T112808Z
SUMMARY:GRÜNE Regen­bogen­­Fische
LOCATION:Hallenbad Gratkorn
DESCRIPTION:GRÜNE Regen­bogen­­Fische\nhttps://sarahkids.at/class/gruene-regenbogenfische/\nhttps://maps.app.goo.gl/jKBeyui5hm3T2nq37
URL:https://sarahkids.at/class/gruene-regenbogenfische/
DTSTART:20260721T140000Z
DTEND:20260721T145000Z
END:VEVENT
BEGIN:VEVENT
UID:33b5e3fe826bb3254460d78b0c9210f5@sarahkids.at
DTSTAMP:20260421T112808Z
SUMMARY:GRÜNE Regen­bogen­­Fische
LOCATION:Hallenbad Gratkorn
DESCRIPTION:GRÜNE Regen­bogen­­Fische\nhttps://sarahkids.at/class/gruene-regenbogenfische/\nhttps://maps.app.goo.gl/jKBeyui5hm3T2nq37
URL:https://sarahkids.at/class/gruene-regenbogenfische/
DTSTART:20260722T140000Z
DTEND:20260722T145000Z
END:VEVENT
BEGIN:VEVENT
UID:bff1c3d9387e30b587ad15e36062df30@sarahkids.at
DTSTAMP:20260421T112808Z
SUMMARY:GRÜNE Regen­bogen­­Fische
LOCATION:Hallenbad Gratkorn
DESCRIPTION:GRÜNE Regen­bogen­­Fische\nhttps://sarahkids.at/class/gruene-regenbogenfische/\nhttps://maps.app.goo.gl/jKBeyui5hm3T2nq37
URL:https://sarahkids.at/class/gruene-regenbogenfische/
DTSTART:20260723T140000Z
DTEND:20260723T145000Z
END:VEVENT
BEGIN:VEVENT
UID:1affed01046407f6ddaa099d69d98156@sarahkids.at
DTSTAMP:20260421T112808Z
SUMMARY:GRÜNE Regen­bogen­­Fische
LOCATION:Hallenbad Gratkorn
DESCRIPTION:GRÜNE Regen­bogen­­Fische\nhttps://sarahkids.at/class/gruene-regenbogenfische/\nhttps://maps.app.goo.gl/jKBeyui5hm3T2nq37
URL:https://sarahkids.at/class/gruene-regenbogenfische/
DTSTART:20260724T140000Z
DTEND:20260724T145000Z
END:VEVENT
END:VCALENDAR
