BEGIN:VCALENDAR
VERSION:2.0
PRODID:-//SarahKiDs//rot-ical-download//EN
CALSCALE:GREGORIAN
METHOD:PUBLISH
BEGIN:VEVENT
UID:1cd150657f21ee1c2e95b1fc52473fc6@sarahkids.at
DTSTAMP:20260421T094916Z
SUMMARY:WasserRatten FLUMMY
LOCATION:Hallenbad Gratkorn
DESCRIPTION:WasserRatten FLUMMY\nhttps://sarahkids.at/class/wasserratten-flummy/\nhttps://maps.app.goo.gl/jKBeyui5hm3T2nq37
URL:https://sarahkids.at/class/wasserratten-flummy/
DTSTART:20260622T140000Z
DTEND:20260622T145000Z
END:VEVENT
BEGIN:VEVENT
UID:9b71407d83bfe81706c31e9b084fbc27@sarahkids.at
DTSTAMP:20260421T094916Z
SUMMARY:WasserRatten FLUMMY
LOCATION:Hallenbad Gratkorn
DESCRIPTION:WasserRatten FLUMMY\nhttps://sarahkids.at/class/wasserratten-flummy/\nhttps://maps.app.goo.gl/jKBeyui5hm3T2nq37
URL:https://sarahkids.at/class/wasserratten-flummy/
DTSTART:20260623T140000Z
DTEND:20260623T145000Z
END:VEVENT
BEGIN:VEVENT
UID:8d11c39ea1691e2384df4c0ae85a4be9@sarahkids.at
DTSTAMP:20260421T094916Z
SUMMARY:WasserRatten FLUMMY
LOCATION:Hallenbad Gratkorn
DESCRIPTION:WasserRatten FLUMMY\nhttps://sarahkids.at/class/wasserratten-flummy/\nhttps://maps.app.goo.gl/jKBeyui5hm3T2nq37
URL:https://sarahkids.at/class/wasserratten-flummy/
DTSTART:20260624T140000Z
DTEND:20260624T145000Z
END:VEVENT
BEGIN:VEVENT
UID:e4a7bd38c9898556e8d8775e862b3f85@sarahkids.at
DTSTAMP:20260421T094916Z
SUMMARY:WasserRatten FLUMMY
LOCATION:Hallenbad Gratkorn
DESCRIPTION:WasserRatten FLUMMY\nhttps://sarahkids.at/class/wasserratten-flummy/\nhttps://maps.app.goo.gl/jKBeyui5hm3T2nq37
URL:https://sarahkids.at/class/wasserratten-flummy/
DTSTART:20260625T140000Z
DTEND:20260625T145000Z
END:VEVENT
BEGIN:VEVENT
UID:79c66a1369901f7a300423241bd9d21c@sarahkids.at
DTSTAMP:20260421T094916Z
SUMMARY:WasserRatten FLUMMY
LOCATION:Hallenbad Gratkorn
DESCRIPTION:WasserRatten FLUMMY\nhttps://sarahkids.at/class/wasserratten-flummy/\nhttps://maps.app.goo.gl/jKBeyui5hm3T2nq37
URL:https://sarahkids.at/class/wasserratten-flummy/
DTSTART:20260626T140000Z
DTEND:20260626T145000Z
END:VEVENT
END:VCALENDAR
