BEGIN:VCALENDAR
VERSION:2.0
PRODID:-//SarahKiDs//rot-ical-download//EN
CALSCALE:GREGORIAN
METHOD:PUBLISH
BEGIN:VEVENT
UID:6a3c967a808d8319ccf11e431bc90a89@sarahkids.at
DTSTAMP:20260421T101211Z
SUMMARY:WasserRatten YUKY
LOCATION:Hallenbad Gratkorn
DESCRIPTION:WasserRatten YUKY\nhttps://sarahkids.at/class/wasserratten-yuky/\nhttps://maps.app.goo.gl/jKBeyui5hm3T2nq37
URL:https://sarahkids.at/class/wasserratten-yuky/
DTSTART:20260713T090000Z
DTEND:20260713T095000Z
END:VEVENT
BEGIN:VEVENT
UID:532502e67ba3ae76453b7bb772a1b9f9@sarahkids.at
DTSTAMP:20260421T101211Z
SUMMARY:WasserRatten YUKY
LOCATION:Hallenbad Gratkorn
DESCRIPTION:WasserRatten YUKY\nhttps://sarahkids.at/class/wasserratten-yuky/\nhttps://maps.app.goo.gl/jKBeyui5hm3T2nq37
URL:https://sarahkids.at/class/wasserratten-yuky/
DTSTART:20260714T090000Z
DTEND:20260714T095000Z
END:VEVENT
BEGIN:VEVENT
UID:a46e00ab2ed7a179fb540798588dcf99@sarahkids.at
DTSTAMP:20260421T101211Z
SUMMARY:WasserRatten YUKY
LOCATION:Hallenbad Gratkorn
DESCRIPTION:WasserRatten YUKY\nhttps://sarahkids.at/class/wasserratten-yuky/\nhttps://maps.app.goo.gl/jKBeyui5hm3T2nq37
URL:https://sarahkids.at/class/wasserratten-yuky/
DTSTART:20260715T090000Z
DTEND:20260715T095000Z
END:VEVENT
BEGIN:VEVENT
UID:3b1eb220fd45d0ce33ec578272eb465b@sarahkids.at
DTSTAMP:20260421T101211Z
SUMMARY:WasserRatten YUKY
LOCATION:Hallenbad Gratkorn
DESCRIPTION:WasserRatten YUKY\nhttps://sarahkids.at/class/wasserratten-yuky/\nhttps://maps.app.goo.gl/jKBeyui5hm3T2nq37
URL:https://sarahkids.at/class/wasserratten-yuky/
DTSTART:20260716T090000Z
DTEND:20260716T095000Z
END:VEVENT
BEGIN:VEVENT
UID:597283f2e61d812ce28d237eea5d0e21@sarahkids.at
DTSTAMP:20260421T101211Z
SUMMARY:WasserRatten YUKY
LOCATION:Hallenbad Gratkorn
DESCRIPTION:WasserRatten YUKY\nhttps://sarahkids.at/class/wasserratten-yuky/\nhttps://maps.app.goo.gl/jKBeyui5hm3T2nq37
URL:https://sarahkids.at/class/wasserratten-yuky/
DTSTART:20260717T090000Z
DTEND:20260717T095000Z
END:VEVENT
END:VCALENDAR
